BEGIN:VCALENDAR
VERSION:2.0
PRODID:-//SVP Täuffelen-Gerolfingen-Hagneck //NONSGML Events //EN
CALSCALE:GREGORIAN
X-WR-CALNAME:SVP Täuffelen-Gerolfingen-Hagneck
BEGIN:VEVENT
CREATED:20260422T080548Z
UID:1980
DTEND:20260503T000000
DTSTART:20260424T000000
DTSTAMP:20260423T113134Z
LOCATION:
DESCRIPTION:
SUMMARY:BEA
ORGANIZER:
URL;VALUE=URI:https://www.svp2575.ch/termine/bea-3/
TRANSP:OPAQUE
END:VEVENT
END:VCALENDAR
