BEGIN:VCALENDAR
VERSION:2.0
PRODID:-//SVP Täuffelen-Gerolfingen-Hagneck //NONSGML Events //EN
CALSCALE:GREGORIAN
X-WR-CALNAME:SVP Täuffelen-Gerolfingen-Hagneck
BEGIN:VEVENT
CREATED:20240918T071020Z
UID:1609
DTEND:20250125T000000
DTSTART:20250125T000000
DTSTAMP:20260421T124602Z
LOCATION:Solothurn
DESCRIPTION:
SUMMARY:Delegiertenversammlung SVP Schweiz
ORGANIZER:
URL;VALUE=URI:https://www.svp2575.ch/termine/delegiertenversammlung-svp-schweiz-14/
TRANSP:OPAQUE
END:VEVENT
END:VCALENDAR
